BEGIN:VCALENDAR
VERSION:2.0
PRODID:-//eventon.com NONSGML v1.0//EN
CALSCALE:GREGORIAN
METHOD:PUBLISH
BEGIN:VEVENT
UID:69e7ad2c6b2a4
DTSTAMP:20260421T110028
DTSTART:20260426T183000Z
DTEND:20260426T200000Z
TZID:America/Denver
LOCATION:Jefferson Unitarian Church 14350 W. 32nd Avenue Golden\,  Colorado 80401
SUMMARY:Guatemala Trip Information Meeting
DESCRIPTION: Find out about this year&#8217;s Guatelmala trip offered by the JUC Guatemala Partners. This will be an intercultural exchange trip to Rabinal\,  Guatemala this Fall \,  leaving Sept 22nd. The trip will be led by Lisa Bickford and hosted by ADIVIMA and the Mayan students who are recipients of our[..]\nhttps://jeffersonunitarian.org/events/guatemala-trip-information-meeting-2/
URL:https://jeffersonunitarian.org/events/guatemala-trip-information-meeting-2/
END:VEVENT
END:VCALENDAR