BEGIN:VCALENDAR
VERSION:2.0
PRODID:-//eventon.com NONSGML v1.0//EN
CALSCALE:GREGORIAN
METHOD:PUBLISH
BEGIN:VEVENT
UID:69e5972749cd5
DTSTAMP:20260419T210159
DTSTART:20260426T150000Z
DTEND:20260426T180000Z
TZID:America/Denver
LOCATION:Jefferson Unitarian Church 14350 W. 32nd Avenue Golden\,  Colorado 80401
SUMMARY:Realizing a Larger Story
DESCRIPTION: If pluralism is the practice of honoring many truths\,  which means embracing curiosity\,  how we are encouraged to embrace a larger story?\nhttps://jeffersonunitarian.org/events/realizing-a-larger-story/
URL:https://jeffersonunitarian.org/events/realizing-a-larger-story/
END:VEVENT
END:VCALENDAR