BEGIN:VCALENDAR
VERSION:2.0
PRODID:-//eventon.com NONSGML v1.0//EN
CALSCALE:GREGORIAN
METHOD:PUBLISH
BEGIN:VEVENT
UID:69e4d3f823a27
DTSTAMP:20260419T070912
DTSTART:20260425T213000Z
DTEND:20260426T003000Z
TZID:America/Denver
LOCATION:Jefferson Unitarian Church 14350 W. 32nd Avenue Golden\,  Colorado 80401
SUMMARY:Self Care Saturday for Women
DESCRIPTION: JUC’s Self Care Saturday is a volunteer-led\,  mini-retreat. We will have mini-sessions hosted by fellow congregants. There will be time to gather in community for spiritual practice\,  participate in activities that are social\,  crafty\,  reflective\,  and fun. Then we will share a meal. Child care will be provided. Suggested $20[..]\nhttps://jeffersonunitarian.org/events/self-care-saturday-for-women/
URL:https://jeffersonunitarian.org/events/self-care-saturday-for-women/
END:VEVENT
END:VCALENDAR