BEGIN:VCALENDAR
VERSION:2.0
PRODID:-//eventon.com NONSGML v1.0//EN
CALSCALE:GREGORIAN
METHOD:PUBLISH
BEGIN:VEVENT
UID:69e7c3f09e4bc
DTSTAMP:20260421T123736
DTSTART:20260422T003000Z
DTEND:20260422T020000Z
TZID:America/Denver
LOCATION:Jefferson Unitarian Church 14350 W. 32nd Avenue Golden\,  Colorado 80401
SUMMARY:Mom's Group
DESCRIPTION: Join us during our monthly casual meeting for an opportunity to connect and deepen relationships with fellow moms. There will be a mix of faith-exploration activities and social time. Contact: Megan Duncan\nhttps://jeffersonunitarian.org/events/moms-group-4/var/ri-1.l-L1
URL:https://jeffersonunitarian.org/events/moms-group-4/var/ri-1.l-L1
END:VEVENT
END:VCALENDAR