BEGIN:VCALENDAR
VERSION:2.0
PRODID:-//eventon.com NONSGML v1.0//EN
CALSCALE:GREGORIAN
METHOD:PUBLISH
BEGIN:VEVENT
UID:69e74f6d8a007
DTSTAMP:20260421T042029
DTSTART:20260308T210000Z
DTEND:20260308T223000Z
TZID:America/Denver
LOCATION:Jefferson Unitarian Church 14350 W. 32nd Avenue Golden\,  Colorado 80401
SUMMARY:Charla
DESCRIPTION: ¡Hola! Join Our Spanish Language &amp; Culture Group!Looking to brush up on your skills or start from scratch? Everyone is welcome to join our community-focused Spanish group! Whether you are a beginner or a fluent speaker\,  come enjoy conversational practice while exploring the rich traditions and culture of the Spanish-speaking[..]\nhttps://jeffersonunitarian.org/events/charla/
URL:https://jeffersonunitarian.org/events/charla/
END:VEVENT
END:VCALENDAR