BEGIN:VCALENDAR
VERSION:2.0
PRODID:-//eventon.com NONSGML v1.0//EN
CALSCALE:GREGORIAN
METHOD:PUBLISH
BEGIN:VEVENT
UID:69e750e0837a8
DTSTAMP:20260421T042640
DTSTART:20260227T010000Z
DTEND:20260227T033000Z
TZID:America/Denver
LOCATION:https://boxcast.tv/view/is-media-ruining-america-session-2--understanding-and-confronting-bias-mamzwwmwkos4kn5oh5jo
SUMMARY:Is Media Ruining America?
DESCRIPTION: Worried about the proliferation of fake news\,  political polarization and threats to our democracy? Join us for a five-week series\,  Is Media Ruining Our Democracy\,  sponsored by the League of Women Voters of Jefferson County. In these interactive workshops\,  we&#8217;ll explore modern media\,  the proliferation of fake news and how[..]\nhttps://jeffersonunitarian.org/events/is-media-ruining-america-2/var/event_access
URL:https://jeffersonunitarian.org/events/is-media-ruining-america-2/var/event_access
END:VEVENT
END:VCALENDAR