BEGIN:VCALENDAR
VERSION:2.0
PRODID:-//eventon.com NONSGML v1.0//EN
CALSCALE:GREGORIAN
METHOD:PUBLISH
BEGIN:VEVENT
UID:69e74edbcf9b9
DTSTAMP:20260421T041803
DTSTART:20260213T020000Z
DTEND:20260213T030000Z
TZID:America/Denver
LOCATION:https://zoom.us/j/91542314398?pwd=adTEiXl2NahhYOqF17bWplZHy61IJv.1
SUMMARY:8th Principle Groups Informational Meeting
DESCRIPTION: Come learn about our 8th principle groups\,  starting in February! These small groups will allow us to go deeper in our understanding of antiracism/antioppression work in an environment that allows for vulnerability and deep learning. This meeting will be in person at JUC.\nhttps://jeffersonunitarian.org/events/8th-principle-groups-informational-meeting-4/
URL:https://jeffersonunitarian.org/events/8th-principle-groups-informational-meeting-4/
END:VEVENT
END:VCALENDAR