BEGIN:VCALENDAR
VERSION:2.0
PRODID:-//eventon.com NONSGML v1.0//EN
CALSCALE:GREGORIAN
METHOD:PUBLISH
BEGIN:VEVENT
UID:69e76463130ff
DTSTAMP:20260421T054955
DTSTART:20260911T190000Z
DTEND:20260912T055900Z
TZID:America/Denver
LOCATION:https://zoom.us/j/83828188838?pwd=WU1RWGx1cjdQL3ArZFZYSDl2NWJnQT09
SUMMARY:Caregiver Support Group
DESCRIPTION: There are only four kinds of people in the world: Those who have been caregivers\,  those who are currently caregivers\,  those who will be caregivers and those who will need caregivers&#8212; Former first lady Rosalynn Carter JUC is offering a deeply nurturing Caregiver Support Group. Join us to connect in[..]\nhttps://jeffersonunitarian.org/events/caregiver-support-group-2/var/event_access
URL:https://jeffersonunitarian.org/events/caregiver-support-group-2/var/event_access
END:VEVENT
END:VCALENDAR