BEGIN:VCALENDAR
VERSION:2.0
PRODID:-//eventon.com NONSGML v1.0//EN
CALSCALE:GREGORIAN
METHOD:PUBLISH
BEGIN:VEVENT
UID:69e7645de6b69
DTSTAMP:20260421T054949
DTSTART:20260810T233000Z
DTEND:20260811T003000Z
TZID:America/Denver
LOCATION:Jefferson Unitarian Church 14350 W. 32nd Avenue Golden\,  Colorado 80401
SUMMARY:Tai Chi Contemplatives
DESCRIPTION: We practice a form of Thai Chi called Thai Chi Chih That is very easy to follow. Beginners welcome. Tai Chi is an internal form of martial arts and improves balance\,  coordination\,  breathing\,  overall strength\,  reactivity\,  and integration. Newcomers will find it easy to follow.\nhttps://jeffersonunitarian.org/events/tai-chi-contemplatives-4/var/ri-7.l-L1
URL:https://jeffersonunitarian.org/events/tai-chi-contemplatives-4/var/ri-7.l-L1
END:VEVENT
END:VCALENDAR