BEGIN:VCALENDAR
VERSION:2.0
PRODID:-//eventon.com NONSGML v1.0//EN
CALSCALE:GREGORIAN
METHOD:PUBLISH
BEGIN:VEVENT
UID:69e79a5d51775
DTSTAMP:20260421T094013
DTSTART:20260511T233000Z
DTEND:20260512T003000Z
TZID:America/Denver
LOCATION:Jefferson Unitarian Church 14350 W. 32nd Avenue Golden\,  Colorado 80401
SUMMARY:Tai Chi Contemplatives
DESCRIPTION: We practice a form of Thai Chi called Thai Chi Chih That is very easy to follow. Beginners welcome. Tai Chi is an internal form of martial arts and improves balance\,  coordination\,  breathing\,  overall strength\,  reactivity\,  and integration. Newcomers will find it easy to follow.\nhttps://jeffersonunitarian.org/events/tai-chi-contemplatives-4/var/ri-4.l-L1
URL:https://jeffersonunitarian.org/events/tai-chi-contemplatives-4/var/ri-4.l-L1
END:VEVENT
END:VCALENDAR