BEGIN:VCALENDAR
VERSION:2.0
PRODID:-//eventon.com NONSGML v1.0//EN
CALSCALE:GREGORIAN
METHOD:PUBLISH
BEGIN:VEVENT
UID:69e4e82949a1c
DTSTAMP:20260419T083521
DTSTART:20251115T170000Z
DTEND:20251115T190000Z
TZID:America/Denver
LOCATION:
SUMMARY:Supporting Youth Mental Health in Challenging Times
DESCRIPTION: If you have a youth\,  care for a youth\,  or know one\,  this workshop is for you. Come and join Lindsey Breslin of Resilience 1220\,  a non-profit youth mental health organization serving Jeffco\,  as she speaks about: overprogrammed youth technology &#8211; the good and the bad conversations to have with[..]\nhttps://jeffersonunitarian.org/events/supporting-youth-mental-health-in-challenging-times/
URL:https://jeffersonunitarian.org/events/supporting-youth-mental-health-in-challenging-times/
END:VEVENT
END:VCALENDAR