BEGIN:VCALENDAR
VERSION:2.0
PRODID:-//eventon.com NONSGML v1.0//EN
CALSCALE:GREGORIAN
METHOD:PUBLISH
BEGIN:VEVENT
UID:69e764ae7a1e8
DTSTAMP:20260421T055110
DTSTART:20260514T160000Z
DTEND:20260514T180000Z
TZID:America/Denver
LOCATION:
SUMMARY:Being an Elder
DESCRIPTION: Being an Elder is a support group for members and friends of JUC who are in their 70’s\,  80’s\,  90&#8217;s\,  or beyond. It will meet in the chapel once a month on the 2nd Thursday of each month beginning at 10:00am til noon. The first meeting will be on Thursday[..]\nhttps://jeffersonunitarian.org/events/being-an-elder-2/var/ri-6.l-L1
URL:https://jeffersonunitarian.org/events/being-an-elder-2/var/ri-6.l-L1
END:VEVENT
END:VCALENDAR