BEGIN:VCALENDAR
VERSION:2.0
PRODID:-//eventon.com NONSGML v1.0//EN
CALSCALE:GREGORIAN
METHOD:PUBLISH
BEGIN:VEVENT
UID:69e76463886fe
DTSTAMP:20260421T054955
DTSTART:20260606T000000Z
DTEND:20260606T055900Z
TZID:America/Denver
LOCATION:
SUMMARY:First Friday Open Mic
DESCRIPTION: First Friday Open Mic! We’ll have a pizza and salad dinner starting at 6 pm ($5/person; $20/family suggested donation) followed by an evening of entertainment. FFOM is the perfect way for both veteran AND budding performers of all ages to get in front of an audience. Singers\,  dancers\,  instrumentalists\,  comics\, [..]\nhttps://jeffersonunitarian.org/events/first-friday-open-mic-7/var/ri-7.l-L1
URL:https://jeffersonunitarian.org/events/first-friday-open-mic-7/var/ri-7.l-L1
END:VEVENT
END:VCALENDAR