BEGIN:VCALENDAR
VERSION:2.0
PRODID:-//eventon.com NONSGML v1.0//EN
CALSCALE:GREGORIAN
METHOD:PUBLISH
BEGIN:VEVENT
UID:69e7ad5a64418
DTSTAMP:20260421T110114
DTSTART:20260428T010000Z
DTEND:20260428T023000Z
TZID:America/Denver
LOCATION:Jefferson Unitarian Church 14350 W. 32nd Avenue Golden\,  Colorado 80401
SUMMARY:Queer Social Justice Group
DESCRIPTION: Welcome to the Queer Social Justice Group! We are a group of queer people and queer allies here at JUC committed to raising awareness of issues that affect the queer community and fostering communication between queer people and our allies. We will be turning that awareness and education into action\, [..]\nhttps://jeffersonunitarian.org/events/queer-social-justice-group-2/var/ri-6.l-L1
URL:https://jeffersonunitarian.org/events/queer-social-justice-group-2/var/ri-6.l-L1
END:VEVENT
END:VCALENDAR