BEGIN:VCALENDAR
VERSION:2.0
PRODID:-//eventon.com NONSGML v1.0//EN
CALSCALE:GREGORIAN
METHOD:PUBLISH
BEGIN:VEVENT
UID:69e79b4780182
DTSTAMP:20260421T094407
DTSTART:20260502T150000Z
DTEND:20260502T160000Z
TZID:America/Denver
LOCATION:Jefferson Unitarian Church 14350 W. 32nd Avenue Golden\,  Colorado 80401
SUMMARY:Mindfulness Meditation
DESCRIPTION: The Mindfulness Meditation group is meeting first and third Saturday mornings to meditate together in-person. 15 minutes of instruction/discussion\,  followed by 30 minutes silent meditation in M3/4. For questions or more information\,  contact Tina Voelker.\nhttps://jeffersonunitarian.org/events/mindfulness-meditation-9/var/ri-15.l-L1
URL:https://jeffersonunitarian.org/events/mindfulness-meditation-9/var/ri-15.l-L1
END:VEVENT
END:VCALENDAR