BEGIN:VCALENDAR
VERSION:2.0
PRODID:-//eventon.com NONSGML v1.0//EN
CALSCALE:GREGORIAN
METHOD:PUBLISH
BEGIN:VEVENT
UID:69e7502480f62
DTSTAMP:20260421T042332
DTSTART:20250921T150000Z
DTEND:20250921T180000Z
TZID:America/Denver
LOCATION:Jefferson Unitarian Church 14350 W. 32nd Avenue Golden\,  Colorado 80401
SUMMARY:Reflect\,  Return\,  Repair
DESCRIPTION: The Jewish faith is framed in covenant between God and God&#8217;s people. In these &#8220;Days of Awe\, &#8221; we explore the wisdom of setting aside time each year to reflect\,  return\,  and repair. Services at 9 &amp; 11 am.\nhttps://jeffersonunitarian.org/events/reflect-return-repair/
URL:https://jeffersonunitarian.org/events/reflect-return-repair/
END:VEVENT
END:VCALENDAR