BEGIN:VCALENDAR
VERSION:2.0
PRODID:-//eventon.com NONSGML v1.0//EN
CALSCALE:GREGORIAN
METHOD:PUBLISH
BEGIN:VEVENT
UID:69e76461c6696
DTSTAMP:20260421T054953
DTSTART:20260428T013000Z
DTEND:20260428T030000Z
TZID:America/Denver
LOCATION:Jefferson Unitarian Church 14350 W. 32nd Avenue Golden\,  Colorado 80401
SUMMARY:Great Books Discussion
DESCRIPTION: Reading from the great books of our civilization and discussing them with other people – sharing your insights and questions. This week&#8217;s selections from &#8220;Poetry&#8221; selections by Charles Baudelaire. Handouts available for $15. Contact: Carol and Clint Flynn\nhttps://jeffersonunitarian.org/events/great-books-discussion-16/
URL:https://jeffersonunitarian.org/events/great-books-discussion-16/
END:VEVENT
END:VCALENDAR