BEGIN:VCALENDAR
VERSION:2.0
PRODID:-//eventon.com NONSGML v1.0//EN
CALSCALE:GREGORIAN
METHOD:PUBLISH
BEGIN:VEVENT
UID:69e750e08972c
DTSTAMP:20260421T042640
DTSTART:20250806T190000Z
DTEND:20250807T000000Z
TZID:America/Denver
LOCATION:Jefferson Unitarian Church 14350 W. 32nd Avenue Golden\,  Colorado 80401
SUMMARY:Annual Red Cross Blood Drive
DESCRIPTION: Reserve your time slot to donate blood with Red Cross\,  and help keep the supply afloat! Click the sign up button and enter code JUC to reserve a spot. Bring a photo ID or your blood donor card\,  or two other forms of ID.\nhttps://jeffersonunitarian.org/events/annual-red-cross-blood-drive/
URL:https://jeffersonunitarian.org/events/annual-red-cross-blood-drive/
END:VEVENT
END:VCALENDAR