BEGIN:VCALENDAR
VERSION:2.0
PRODID:-//eventon.com NONSGML v1.0//EN
CALSCALE:GREGORIAN
METHOD:PUBLISH
BEGIN:VEVENT
UID:69e4e600102d4
DTSTAMP:20260419T082608
DTSTART:20250713T220000Z
DTEND:20250714T055900Z
TZID:America/Denver
LOCATION:Jefferson Unitarian Church 14350 W. 32nd Avenue Golden\,  Colorado 80401
SUMMARY:Four Hands Piano Recital
DESCRIPTION: Adam Revell and Jude Markel will dazzle us on the piano. Solos! Duets! Join them in our sanctuary and enjoy an afternoon of two master pianists making music for your enjoyment. Children are free when accompanied by an adult.\nhttps://jeffersonunitarian.org/events/four-hands-piano-recital/
URL:https://jeffersonunitarian.org/events/four-hands-piano-recital/
END:VEVENT
END:VCALENDAR