BEGIN:VCALENDAR
VERSION:2.0
PRODID:-//eventon.com NONSGML v1.0//EN
CALSCALE:GREGORIAN
METHOD:PUBLISH
BEGIN:VEVENT
UID:69e79aa0d2306
DTSTAMP:20260421T094120
DTSTART:20260426T230000Z
DTEND:20260427T003000Z
TZID:America/Denver
LOCATION:
SUMMARY:Mindfulness Meditation
DESCRIPTION: The Mindfulness Meditation group will not be holding their regular meeting on Sunday\,  April 26. Instead\,  the group will be joining the quarterly UU Buddhist Fellowship meeting. Please register in advance in order to attend the meeting. For questions or more information\,  contact Tina Voelker.\nhttps://jeffersonunitarian.org/events/mindfulness-meditation-8/
URL:https://jeffersonunitarian.org/events/mindfulness-meditation-8/
END:VEVENT
END:VCALENDAR