BEGIN:VCALENDAR
VERSION:2.0
PRODID:-//eventon.com NONSGML v1.0//EN
CALSCALE:GREGORIAN
METHOD:PUBLISH
BEGIN:VEVENT
UID:69e79af51c0c6
DTSTAMP:20260421T094245
DTSTART:20260607T190000Z
DTEND:20260607T210000Z
TZID:America/Denver
LOCATION:Jefferson Unitarian Church 14350 W. 32nd Avenue Golden\,  Colorado 80401
SUMMARY:Golden Satsang
DESCRIPTION: The Golden Satsang group is a vibrant\,  nurturing and sustainable forum for meditators to support each others’ spiritual practice. We meet in the M3/4 Room at the JUC Mills building. Please read the Golden Satsang Description\,  and if interested\,  join us. Contact: Margie\nhttps://jeffersonunitarian.org/events/golden-satsang/var/ri-2.l-L1
URL:https://jeffersonunitarian.org/events/golden-satsang/var/ri-2.l-L1
END:VEVENT
END:VCALENDAR