BEGIN:VCALENDAR
VERSION:2.0
PRODID:-//eventon.com NONSGML v1.0//EN
CALSCALE:GREGORIAN
METHOD:PUBLISH
BEGIN:VEVENT
UID:69e7c3e924e90
DTSTAMP:20260421T123729
DTSTART:20260702T170000Z
DTEND:20260703T055900Z
TZID:America/Denver
LOCATION:
SUMMARY:Golden Circle Luncheon
DESCRIPTION: A time for our 70+ community to gather &#8211; enjoy a meal\,  fun\,  and great conversation! A $5 donation is requested.\nhttps://jeffersonunitarian.org/events/golden-circle-luncheon/var/ri-1.l-L1
URL:https://jeffersonunitarian.org/events/golden-circle-luncheon/var/ri-1.l-L1
END:VEVENT
END:VCALENDAR