BEGIN:VCALENDAR
VERSION:2.0
PRODID:-//eventon.com NONSGML v1.0//EN
CALSCALE:GREGORIAN
METHOD:PUBLISH
BEGIN:VEVENT
UID:69e7c47f6d522
DTSTAMP:20260421T123959
DTSTART:20260507T170000Z
DTEND:20260508T055900Z
TZID:America/Denver
LOCATION:
SUMMARY:Golden Circle Luncheon
DESCRIPTION: A time for our 70+ community to gather &#8211; enjoy a meal\,  fun\,  and great conversation! A $5 donation is requested.\nhttps://jeffersonunitarian.org/events/golden-circle-luncheon/
URL:https://jeffersonunitarian.org/events/golden-circle-luncheon/
END:VEVENT
END:VCALENDAR