BEGIN:VCALENDAR
VERSION:2.0
PRODID:-//eventon.com NONSGML v1.0//EN
CALSCALE:GREGORIAN
METHOD:PUBLISH
BEGIN:VEVENT
UID:69e89bbe24191
DTSTAMP:20260422T035822
DTSTART:20250119T160000Z
DTEND:20250119T190000Z
TZID:America/Denver
LOCATION:Jefferson Unitarian Church 14350 W. 32nd Avenue Golden\,  Colorado 80401
SUMMARY:Joyful By Nature
DESCRIPTION: Our ecology provides joy that we love and can learn from. Spontaneity\,  wildness\,  and the totality of being in the moment could be some of the reasons why animals are happy. Or perhaps it as Mary Oliver reflects\,  that we experience joy when we “…let the soft animal of your[..]\n
URL:
END:VEVENT
END:VCALENDAR