BEGIN:VCALENDAR
VERSION:2.0
PRODID:-//eventon.com NONSGML v1.0//EN
CALSCALE:GREGORIAN
METHOD:PUBLISH
BEGIN:VEVENT
UID:69e7646487aef
DTSTAMP:20260421T054956
DTSTART:20260503T183000Z
DTEND:20260504T055900Z
TZID:America/Denver
LOCATION:Jefferson Unitarian Church 14350 W. 32nd Avenue Golden\,  Colorado 80401
SUMMARY:Science & Spirit
DESCRIPTION: Encourage your curiosity with presentations and lively discussion on a wide variety of scientific topics. No specific scientific or technical background is required.\nhttps://jeffersonunitarian.org/events/science-spirit/var/ri-4.l-L1
URL:https://jeffersonunitarian.org/events/science-spirit/var/ri-4.l-L1
END:VEVENT
END:VCALENDAR