BEGIN:VCALENDAR
VERSION:2.0
PRODID:-//eventon.com NONSGML v1.0//EN
CALSCALE:GREGORIAN
METHOD:PUBLISH
BEGIN:VEVENT
UID:69e7c4be8a21d
DTSTAMP:20260421T124102
DTSTART:20260707T000000Z
DTEND:20260707T013000Z
TZID:America/Denver
LOCATION:
SUMMARY:Women's Group
DESCRIPTION: Be a part of the Women&#8217;s Group at JUC\,  where people of all ages who identify as women can come together to foster community\,  support one another\,  and embrace the values of Unitarian Universalism. This inclusive space welcomes individuals to socialize\,  share experiences\,  and pursue personal growth while celebrating our[..]\nhttps://jeffersonunitarian.org/events/womens-group/var/ri-16.l-L1
URL:https://jeffersonunitarian.org/events/womens-group/var/ri-16.l-L1
END:VEVENT
END:VCALENDAR