BEGIN:VCALENDAR
VERSION:2.0
PRODID:-//eventon.com NONSGML v1.0//EN
CALSCALE:GREGORIAN
METHOD:PUBLISH
BEGIN:VEVENT
UID:69e4e8590400f
DTSTAMP:20260419T083609
DTSTART:20241102T000000Z
DTEND:20241102T055900Z
TZID:America/Denver
LOCATION:Jefferson Unitarian Church 14350 W. 32nd Avenue Golden\,  Colorado 80401
SUMMARY:CUUPs: Samhain Divination Social
DESCRIPTION: Gather with us for a Divination Social hosted by Covenent of Universalist Unitarian Pagans. Come share your divination craft or explore the diverse paths of others in our welcoming community. Bring a favorite dish to our potluck inspired by Samhain traditions\,  and let’s celebrate together through food\,  knowledge\,  and connection!\nhttps://jeffersonunitarian.org/events/cuups-samhain-divination-social/
URL:https://jeffersonunitarian.org/events/cuups-samhain-divination-social/
END:VEVENT
END:VCALENDAR