BEGIN:VCALENDAR
VERSION:2.0
PRODID:-//eventon.com NONSGML v1.0//EN
CALSCALE:GREGORIAN
METHOD:PUBLISH
BEGIN:VEVENT
UID:69e4d068ba468
DTSTAMP:20260419T065400
DTSTART:20241005T153000Z
DTEND:20241006T055900Z
TZID:America/Denver
LOCATION:Jefferson Unitarian Church 14350 W. 32nd Avenue Golden\,  Colorado 80401
SUMMARY:Soup Cooking Class
DESCRIPTION: Learn how to prepare delicious soups or stews\nhttps://jeffersonunitarian.org/events/learn-how-to-prepare-delicious-soups-or-stews/
URL:https://jeffersonunitarian.org/events/learn-how-to-prepare-delicious-soups-or-stews/
END:VEVENT
END:VCALENDAR