BEGIN:VCALENDAR
VERSION:2.0
PRODID:-//eventon.com NONSGML v1.0//EN
CALSCALE:GREGORIAN
METHOD:PUBLISH
BEGIN:VEVENT
UID:69e79aea09aa7
DTSTAMP:20260421T094234
DTSTART:20260614T230000Z
DTEND:20260615T003000Z
TZID:America/Denver
LOCATION:https://oqrtqikab.cc.rs6.net/tn.jsp?f=001hf87shIJNh--ifp7j2ee2WaLNQMiDXW1bra-31FE4cC_QI1BRChYwa-ZrTFXcZJgPBFQJA0yUgkOwjLQnFNpmLZGMc5u35et9gv-MFB5QBvImtIutcRU-XVbkyARE_EA8SMuuTm3MqJf3P7GZaqP0UKrvJF01O5b&c=oui2gARUBeTVl6owlmrXLPNNIjKsPCYqFZyVsJwerJXPrKdyuJhixA==&ch=L2Y4FzTGBGuD8G8ZJDXD_A7cFAGN-jnDcScAqSzvnyGIvnubPoJnAA==
SUMMARY:Mindfulness Meditation
DESCRIPTION: The Mindfulness Meditation group is meeting every Sunday to meditate together and discuss a mindfulness-related theme. For questions or more information\,  contact Tina Voelker.\nhttps://jeffersonunitarian.org/events/spiritual-practice-group-mindfulness-meditation-8-am-online-5-615-pm/var/event_access
URL:https://jeffersonunitarian.org/events/spiritual-practice-group-mindfulness-meditation-8-am-online-5-615-pm/var/event_access
END:VEVENT
END:VCALENDAR