BEGIN:VCALENDAR
VERSION:2.0
PRODID:-//eventon.com NONSGML v1.0//EN
CALSCALE:GREGORIAN
METHOD:PUBLISH
BEGIN:VEVENT
UID:69e4d0019deb5
DTSTAMP:20260419T065217
DTSTART:20240908T150000Z
DTEND:20240908T170000Z
TZID:America/Denver
LOCATION:
SUMMARY:We Are Each Other's
DESCRIPTION: \nhttps://jeffersonunitarian.org/events/deepen-spiritually-we-nurture-religious-community-in-which-we/
URL:https://jeffersonunitarian.org/events/deepen-spiritually-we-nurture-religious-community-in-which-we/
END:VEVENT
END:VCALENDAR