BEGIN:VCALENDAR
VERSION:2.0
PRODID:-//eventon.com NONSGML v1.0//EN
CALSCALE:GREGORIAN
METHOD:PUBLISH
BEGIN:VEVENT
UID:69e7c4463796b
DTSTAMP:20260421T123902
DTSTART:20260811T010000Z
DTEND:20260811T055900Z
TZID:America/Denver
LOCATION:
SUMMARY:Queer Connections
DESCRIPTION: Do you identify as LGBTQIA+? Come connect with the JUC Queer Adult community and bring snacks to share. This will be an informal social meetup to make connections as queer folks. We will talk briefly about how the community moves forward and what activities sound appealing to all. Contact: Jellico[..]\nhttps://jeffersonunitarian.org/events/queer-connections-identity-group/var/ri-19.l-L1
URL:https://jeffersonunitarian.org/events/queer-connections-identity-group/var/ri-19.l-L1
END:VEVENT
END:VCALENDAR