BEGIN:VCALENDAR
VERSION:2.0
PRODID:-//eventon.com NONSGML v1.0//EN
CALSCALE:GREGORIAN
METHOD:PUBLISH
BEGIN:VEVENT
UID:69e4d11eefe10
DTSTAMP:20260419T065702
DTSTART:20240818T160000Z
DTEND:20240818T170000Z
TZID:America/Denver
LOCATION:
SUMMARY:Summer Speaker Series: The Power of Naming
DESCRIPTION: Across generations and geographies\,  naming something was seen as a powerful act. Sometimes that was literally giving someone a name. Other times it was naming to claim or confront. As James Baldwin wrote: Not everything that is faced can be changed\,  but nothing can be changed until it is faced.”\nhttps://jeffersonunitarian.org/events/summer-speaker-series-the-power-of-naming-7/
URL:https://jeffersonunitarian.org/events/summer-speaker-series-the-power-of-naming-7/
END:VEVENT
END:VCALENDAR