BEGIN:VCALENDAR
VERSION:2.0
PRODID:-//eventon.com NONSGML v1.0//EN
CALSCALE:GREGORIAN
METHOD:PUBLISH
BEGIN:VEVENT
UID:69e4e9de8dfa6
DTSTAMP:20260419T084238
DTSTART:20240623T173000Z
DTEND:20240623T190000Z
TZID:America/Denver
LOCATION:Jefferson Unitarian Church 14350 W. 32nd Avenue Golden\,  Colorado 80401
SUMMARY:Welcome Team: Belonging Boot Camp
DESCRIPTION: Join the Welcome Team! Whether new to Sunday volunteering or a long-time volunteer\,  these classes are for you! Through 4 in-person or online sessions\,  you&#8217;ll learn how to foster a sense of belonging in our community\,  develop strategies for communication\,  and understand the importance of inclusion at JUC. You&#8217;ll earn a[..]\nhttps://jeffersonunitarian.org/events/welcome-team-belonging-boot-camp/
URL:https://jeffersonunitarian.org/events/welcome-team-belonging-boot-camp/
END:VEVENT
END:VCALENDAR