BEGIN:VCALENDAR
VERSION:2.0
PRODID:-//eventon.com NONSGML v1.0//EN
CALSCALE:GREGORIAN
METHOD:PUBLISH
BEGIN:VEVENT
UID:69e4cf9819f2a
DTSTAMP:20260419T065032
DTSTART:20240205T000000Z
DTEND:20240205T011500Z
TZID:America/Denver
LOCATION:
SUMMARY:Mindfulness Meditation Spiritual Practice Group
DESCRIPTION: The Mindfulness Meditation group is meeting every Sunday to meditate together and discuss a mindfulness-related theme. Meeting Link Contact: Tina Voelker\nhttps://jeffersonunitarian.org/events/mindfulness-meditation-spiritual-practice-group/
URL:https://jeffersonunitarian.org/events/mindfulness-meditation-spiritual-practice-group/
END:VEVENT
END:VCALENDAR