BEGIN:VCALENDAR
VERSION:2.0
PRODID:-//eventon.com NONSGML v1.0//EN
CALSCALE:GREGORIAN
METHOD:PUBLISH
BEGIN:VEVENT
UID:69e7506aa47b2
DTSTAMP:20260421T042442
DTSTART:20231218T000000Z
DTEND:20231218T011500Z
TZID:America/Denver
LOCATION:
SUMMARY:Mindfulness Meditation
DESCRIPTION: The Mindfulness Meditation group is meeting every Sunday to meditate together and discuss a mindfulness-related theme. Meeting Link Contact: Tina Voelker\nhttps://jeffersonunitarian.org/events/mindfulness-meditation-2/
URL:https://jeffersonunitarian.org/events/mindfulness-meditation-2/
END:VEVENT
END:VCALENDAR